BEGIN:VCALENDAR
VERSION:2.0
PRODID:-//wp-events-plugin.com//7.2.3.1//EN
TZID:Europe/Lisbon
X-WR-TIMEZONE:Europe/Lisbon
BEGIN:VEVENT
UID:59@fmme.pt
DTSTART;TZID=Europe/Lisbon:20240303T150000
DTEND;TZID=Europe/Lisbon:20240303T190000
DTSTAMP:20240218T180355Z
URL:https://fmme.pt/events/via-sacra-na-bouca/
SUMMARY:Via Sacra na Bouça
DESCRIPTION:03– Via Sacra na Bouça 15h00\n\n&nbsp\;
CATEGORIES:Atividade fora da FMME
END:VEVENT
BEGIN:VTIMEZONE
TZID:Europe/Lisbon
X-LIC-LOCATION:Europe/Lisbon
BEGIN:STANDARD
DTSTART:20231029T010000
TZOFFSETFROM:+0100
TZOFFSETTO:+0000
TZNAME:WET
END:STANDARD
END:VTIMEZONE
END:VCALENDAR