BEGIN:VCALENDAR
VERSION:2.0
PRODID:-//wp-events-plugin.com//7.2.3.1//EN
TZID:Europe/Lisbon
X-WR-TIMEZONE:Europe/Lisbon
BEGIN:VEVENT
UID:21@fmme.pt
DTSTART;TZID=Europe/Lisbon:20230312T150000
DTEND;TZID=Europe/Lisbon:20230312T180000
DTSTAMP:20230305T095251Z
URL:https://fmme.pt/events/via-sacra-na-bouca-arrimal-as-15h00/
SUMMARY:Via Sacra  na Bouça
DESCRIPTION:Via Sacra&nbsp\;&nbsp\;na Bouça&nbsp\;–&nbsp\;&nbsp\;Arrimal
 \, às 15h00.
CATEGORIES:Atividade fora da FMME
LOCATION:FMME  - Fundação Maria Mãe da Esperança\, Rua da Barrada nº2 
 Loureira 2495-124\, Loureira\, Catarina da Serra\, 2495-124\, Leiria\, Por
 tugal
GEO:39.649822;-8.689169
X-APPLE-STRUCTURED-LOCATION;VALUE=URI;X-ADDRESS=Rua da Barrada nº2 Loureir
 a 2495-124\, Loureira\, Catarina da Serra\, 2495-124\, Leiria\, Portugal;X
 -APPLE-RADIUS=100;X-TITLE=FMME  - Fundação Maria Mãe da Esperança:geo:
 39.649822,-8.689169
END:VEVENT
BEGIN:VTIMEZONE
TZID:Europe/Lisbon
X-LIC-LOCATION:Europe/Lisbon
BEGIN:STANDARD
DTSTART:20221030T010000
TZOFFSETFROM:+0100
TZOFFSETTO:+0000
TZNAME:WET
END:STANDARD
END:VTIMEZONE
END:VCALENDAR