BEGIN:VCALENDAR
VERSION:2.0
PRODID:-//wp-events-plugin.com//7.2.3.1//EN
TZID:Europe/Lisbon
X-WR-TIMEZONE:Europe/Lisbon
BEGIN:VEVENT
UID:25@fmme.pt
DTSTART;TZID=Europe/Lisbon:20230423T150000
DTEND;TZID=Europe/Lisbon:20230423T180000
DTSTAMP:20230403T112452Z
URL:https://fmme.pt/events/via-lucis-na-bouca/
SUMMARY:Via Lucis  na Bouça
DESCRIPTION:&nbsp\;Via Lucis&nbsp\;&nbsp\;na Bouça&nbsp\;–&nbsp\;&nbsp\;
 Arrimal\, às 15h00.
CATEGORIES:Atividade fora da FMME
END:VEVENT
BEGIN:VTIMEZONE
TZID:Europe/Lisbon
X-LIC-LOCATION:Europe/Lisbon
BEGIN:DAYLIGHT
DTSTART:20230326T020000
TZOFFSETFROM:+0000
TZOFFSETTO:+0100
TZNAME:WEST
END:DAYLIGHT
END:VTIMEZONE
END:VCALENDAR