BEGIN:VCALENDAR
VERSION:2.0
PRODID:-//wp-events-plugin.com//7.2.3.1//EN
TZID:Europe/Lisbon
X-WR-TIMEZONE:Europe/Lisbon
BEGIN:VEVENT
UID:39@fmme.pt
DTSTART;TZID=Europe/Lisbon:20230910T130000
DTEND;TZID=Europe/Lisbon:20230910T173000
DTSTAMP:20230902T123019Z
URL:https://fmme.pt/events/rezar-as-dores-de-nossa-senhora-comunicacao/
SUMMARY:Almoço convívio junto à Lagoa grande do Arrimal. RDNS\, na Bouç
 a (comunicação Pe. Pedro)
DESCRIPTION:Almoço convívio junto à Lagoa grande do Arrimal às 13h. 15h
  Rezar as Dores de Nossa Senhora\, na Bouça\, com uma comunicação pelo 
 Pe. Pedro.\n\n&nbsp\;
CATEGORIES:Atividade fora da FMME
LOCATION:https://maps.app.goo.gl/RcmqEbNNkj4ravVbA?g_st=iw
END:VEVENT
BEGIN:VTIMEZONE
TZID:Europe/Lisbon
X-LIC-LOCATION:Europe/Lisbon
BEGIN:DAYLIGHT
DTSTART:20230326T020000
TZOFFSETFROM:+0000
TZOFFSETTO:+0100
TZNAME:WEST
END:DAYLIGHT
END:VTIMEZONE
END:VCALENDAR