BEGIN:VCALENDAR
VERSION:2.0
PRODID:-//wp-events-plugin.com//7.2.3.1//EN
TZID:Europe/Lisbon
X-WR-TIMEZONE:Europe/Lisbon
BEGIN:VEVENT
UID:2@fmme.pt
DTSTART;TZID=Europe/Lisbon:20221105T140000
DTEND;TZID=Europe/Lisbon:20221105T203000
DTSTAMP:20221017T083829Z
URL:https://fmme.pt/events/reuniao-do-c-tecnico-sessao-dos-responsaveis-do
 s-servicos-e-devocao-do-1o-sabado/
SUMMARY:Reunião do C. Técnico\, Sessão  dos Responsáveis  dos Servi
 ços e Devoção do 1º Sábado
DESCRIPTION:\n 	Reunião do C. Técnico\, das 14h00 às 15h30.\n 	Sessão d
 os&nbsp\;Responsáveis dos Serviços\, às&nbsp\;16h00.\n 	Devoção do 1
 º Sábado na COF\, com&nbsp\;Eucaristia&nbsp\;às 20h30.\n
CATEGORIES:Atividade
LOCATION:FMME  - Fundação Maria Mãe da Esperança\, Rua da Barrada nº2 
 Loureira 2495-124\, Loureira\, Catarina da Serra\, 2495-124\, Leiria\, Por
 tugal
GEO:39.649822;-8.689169
X-APPLE-STRUCTURED-LOCATION;VALUE=URI;X-ADDRESS=Rua da Barrada nº2 Loureir
 a 2495-124\, Loureira\, Catarina da Serra\, 2495-124\, Leiria\, Portugal;X
 -APPLE-RADIUS=100;X-TITLE=FMME  - Fundação Maria Mãe da Esperança:geo:
 39.649822,-8.689169
END:VEVENT
BEGIN:VTIMEZONE
TZID:Europe/Lisbon
X-LIC-LOCATION:Europe/Lisbon
BEGIN:STANDARD
DTSTART:20221030T010000
TZOFFSETFROM:+0100
TZOFFSETTO:+0000
TZNAME:WET
END:STANDARD
END:VTIMEZONE
END:VCALENDAR