BEGIN:VCALENDAR
VERSION:2.0
PRODID:-//wp-events-plugin.com//7.2.3.1//EN
TZID:Europe/Lisbon
X-WR-TIMEZONE:Europe/Lisbon
BEGIN:VEVENT
UID:46@fmme.pt
DTSTART;TZID=Europe/Lisbon:20231110T180000
DTEND;TZID=Europe/Lisbon:20231110T220000
DTSTAMP:20231027T194609Z
URL:https://fmme.pt/events/retiro-no-seminario-de-leiria-orientado-pelo-pe
 -pedro-viva/
SUMMARY:Retiro no Seminário de Leiria\, orientado pelo Pe Pedro Viva
DESCRIPTION:10 a 12 - Retiro no Seminário de Leiria\, orientado pelo Pe Pe
 dro Viva. Início às\n18h00 do dia 10.
CATEGORIES:Seminário de Leiria
END:VEVENT
BEGIN:VTIMEZONE
TZID:Europe/Lisbon
X-LIC-LOCATION:Europe/Lisbon
BEGIN:STANDARD
DTSTART:20231029T010000
TZOFFSETFROM:+0100
TZOFFSETTO:+0000
TZNAME:WET
END:STANDARD
END:VTIMEZONE
END:VCALENDAR