BEGIN:VCALENDAR
VERSION:2.0
PRODID:-//wp-events-plugin.com//7.2.3.1//EN
TZID:Europe/Lisbon
X-WR-TIMEZONE:Europe/Lisbon
BEGIN:VEVENT
UID:77@fmme.pt
DTSTART;TZID=Europe/Lisbon:20241110T180000
DTEND;TZID=Europe/Lisbon:20241110T220000
DTSTAMP:20240920T214237Z
URL:https://fmme.pt/events/retiro-no-seminario-de-leiria-orientado-pelo-pe
 -pedro-viva-6/
SUMMARY:Retiro  no Seminário de Leiria\, orientado pelo  Pe Pedro Viva
DESCRIPTION:8 a 10 –&nbsp\; Retiro&nbsp\; no Seminário de Leiria\, orien
 tado pelo&nbsp\; Pe Pedro Viva. Início às 18h00 do dia 8.\n\n&nbsp\;\n\n
 &nbsp\;\n\n&nbsp\;\n\n&nbsp\;\n\n&nbsp\;\n\n&nbsp\;
CATEGORIES:Atividade fora da FMME
LOCATION:Seminário de Leiria\, Largo Padre Carvalho\, 2414-011 Leiria\, Le
 iria\, Portugal\, Portugal
GEO:39.73905;-8.805111
X-APPLE-STRUCTURED-LOCATION;VALUE=URI;X-ADDRESS=Largo Padre Carvalho\, 2414
 -011 Leiria\, Leiria\, Portugal\, Portugal;X-APPLE-RADIUS=100;X-TITLE=Semi
 nário de Leiria:geo:39.73905,-8.805111
END:VEVENT
BEGIN:VTIMEZONE
TZID:Europe/Lisbon
X-LIC-LOCATION:Europe/Lisbon
BEGIN:STANDARD
DTSTART:20241027T010000
TZOFFSETFROM:+0100
TZOFFSETTO:+0000
TZNAME:WET
END:STANDARD
END:VTIMEZONE
END:VCALENDAR