BEGIN:VCALENDAR
VERSION:2.0
PRODID:-//wp-events-plugin.com//7.2.3.1//EN
TZID:Europe/Lisbon
X-WR-TIMEZONE:Europe/Lisbon
BEGIN:VEVENT
UID:60@fmme.pt
DTSTART;TZID=Europe/Lisbon:20240308T093000
DTEND;TZID=Europe/Lisbon:20240310T180000
DTSTAMP:20240218T180659Z
URL:https://fmme.pt/events/retiro-no-seminario-de-leiria-5/
SUMMARY:Retiro no Seminário de Leiria
DESCRIPTION:08 a&nbsp\; 10 – Retiro&nbsp\; no Seminário de Leiria\n\n&nb
 sp\;
CATEGORIES:Seminário de Leiria
LOCATION:Seminário de Leiria\, Largo Padre Carvalho\, 2414-011 Leiria\, Le
 iria\, Portugal\, Portugal
GEO:39.73905;-8.805111
X-APPLE-STRUCTURED-LOCATION;VALUE=URI;X-ADDRESS=Largo Padre Carvalho\, 2414
 -011 Leiria\, Leiria\, Portugal\, Portugal;X-APPLE-RADIUS=100;X-TITLE=Semi
 nário de Leiria:geo:39.73905,-8.805111
END:VEVENT
BEGIN:VTIMEZONE
TZID:Europe/Lisbon
X-LIC-LOCATION:Europe/Lisbon
BEGIN:STANDARD
DTSTART:20231029T010000
TZOFFSETFROM:+0100
TZOFFSETTO:+0000
TZNAME:WET
END:STANDARD
END:VTIMEZONE
END:VCALENDAR