BEGIN:VCALENDAR
VERSION:2.0
PRODID:-//wp-events-plugin.com//7.2.3.1//EN
TZID:Europe/Lisbon
X-WR-TIMEZONE:Europe/Lisbon
BEGIN:VEVENT
UID:29@fmme.pt
DTSTART;TZID=Europe/Lisbon;VALUE=DATE:20230520
DTEND;TZID=Europe/Lisbon;VALUE=DATE:20230522
DTSTAMP:20230508T111358Z
URL:https://fmme.pt/events/retiro-no-seminario-de-leiria-3/
SUMMARY:Retiro  no Seminário de Leiria
DESCRIPTION:19\, 20 e 21&nbsp\;–&nbsp\;Retiro&nbsp\; no Seminário de Lei
 ria\, orientado pelo&nbsp\; Pe Jorge Guarda. (Início sexta-feira\, dia 19
 \, com o jantar).\n\n&nbsp\;
CATEGORIES:Seminário de Leiria
LOCATION:Seminário de Leiria\, Largo Padre Carvalho\, 2414-011 Leiria\, Le
 iria\, Portugal\, Portugal
GEO:39.73905;-8.805111
X-APPLE-STRUCTURED-LOCATION;VALUE=URI;X-ADDRESS=Largo Padre Carvalho\, 2414
 -011 Leiria\, Leiria\, Portugal\, Portugal;X-APPLE-RADIUS=100;X-TITLE=Semi
 nário de Leiria:geo:39.73905,-8.805111
END:VEVENT
BEGIN:VTIMEZONE
TZID:Europe/Lisbon
X-LIC-LOCATION:Europe/Lisbon
BEGIN:DAYLIGHT
DTSTART:20230326T020000
TZOFFSETFROM:+0000
TZOFFSETTO:+0100
TZNAME:WEST
END:DAYLIGHT
END:VTIMEZONE
END:VCALENDAR