BEGIN:VCALENDAR
VERSION:2.0
PRODID:-//wp-events-plugin.com//7.2.3.1//EN
TZID:Europe/Lisbon
X-WR-TIMEZONE:Europe/Lisbon
BEGIN:VEVENT
UID:41@fmme.pt
DTSTART;TZID=Europe/Lisbon:20230917T090000
DTEND;TZID=Europe/Lisbon:20230917T183000
DTSTAMP:20230902T092449Z
URL:https://fmme.pt/events/retiro-aberto-2/
SUMMARY:Retiro aberto
DESCRIPTION:16 e 17&nbsp\;–&nbsp\;&nbsp\;Retiro aberto\,&nbsp\;&nbsp\;com
  início às 9h00 e término às 18h30\, na Casa de Oração de Fátima (C
 OF). Orienta: Pe José Augusto\, Sacerdote do Verbo Divino. Tema: “Despe
 rta\, tu que dormes\, levanta-te!”&nbsp\;(Ef 5\,14)&nbsp\;
CATEGORIES:Atividade
LOCATION:FMME  - Fundação Maria Mãe da Esperança\, Rua da Barrada nº2 
 Loureira 2495-124\, Loureira\, Catarina da Serra\, 2495-124\, Leiria\, Por
 tugal
GEO:39.649822;-8.689169
X-APPLE-STRUCTURED-LOCATION;VALUE=URI;X-ADDRESS=Rua da Barrada nº2 Loureir
 a 2495-124\, Loureira\, Catarina da Serra\, 2495-124\, Leiria\, Portugal;X
 -APPLE-RADIUS=100;X-TITLE=FMME  - Fundação Maria Mãe da Esperança:geo:
 39.649822,-8.689169
END:VEVENT
BEGIN:VTIMEZONE
TZID:Europe/Lisbon
X-LIC-LOCATION:Europe/Lisbon
BEGIN:DAYLIGHT
DTSTART:20230326T020000
TZOFFSETFROM:+0000
TZOFFSETTO:+0100
TZNAME:WEST
END:DAYLIGHT
END:VTIMEZONE
END:VCALENDAR