BEGIN:VCALENDAR
VERSION:2.0
PRODID:-//wp-events-plugin.com//7.2.3.1//EN
TZID:Europe/Lisbon
X-WR-TIMEZONE:Europe/Lisbon
BEGIN:VEVENT
UID:17@fmme.pt
DTSTART;TZID=Europe/Lisbon:20230225T093000
DTEND;TZID=Europe/Lisbon:20230225T173000
DTSTAMP:20230131T211743Z
URL:https://fmme.pt/events/recolecao-de-quaresma-na-cof/
SUMMARY:Recoleção de Quaresma na COF
DESCRIPTION:25&nbsp\;–&nbsp\;Recoleção de Quaresma&nbsp\;na COF\, das 9
 h30 às 17h30. Orienta Pe Pedro Viva.
CATEGORIES:Atividade
LOCATION:FMME  - Fundação Maria Mãe da Esperança\, Rua da Barrada nº2 
 Loureira 2495-124\, Loureira\, Catarina da Serra\, 2495-124\, Leiria\, Por
 tugal
GEO:39.649822;-8.689169
X-APPLE-STRUCTURED-LOCATION;VALUE=URI;X-ADDRESS=Rua da Barrada nº2 Loureir
 a 2495-124\, Loureira\, Catarina da Serra\, 2495-124\, Leiria\, Portugal;X
 -APPLE-RADIUS=100;X-TITLE=FMME  - Fundação Maria Mãe da Esperança:geo:
 39.649822,-8.689169
END:VEVENT
BEGIN:VTIMEZONE
TZID:Europe/Lisbon
X-LIC-LOCATION:Europe/Lisbon
BEGIN:STANDARD
DTSTART:20221030T010000
TZOFFSETFROM:+0100
TZOFFSETTO:+0000
TZNAME:WET
END:STANDARD
END:VTIMEZONE
END:VCALENDAR