BEGIN:VCALENDAR
VERSION:2.0
PRODID:-//wp-events-plugin.com//7.2.3.1//EN
TZID:Europe/Lisbon
X-WR-TIMEZONE:Europe/Lisbon
BEGIN:VEVENT
UID:35@fmme.pt
DTSTART;TZID=Europe/Lisbon:20230826T000000
DTEND;TZID=Europe/Lisbon:20230826T000000
DTSTAMP:20230716T192806Z
URL:https://fmme.pt/events/limpeza-da-bouca/
SUMMARY:Limpeza da Bouça.
DESCRIPTION:26 – Limpeza da Bouça.
CATEGORIES:Atividade fora da FMME
END:VEVENT
BEGIN:VTIMEZONE
TZID:Europe/Lisbon
X-LIC-LOCATION:Europe/Lisbon
BEGIN:DAYLIGHT
DTSTART:20230326T020000
TZOFFSETFROM:+0000
TZOFFSETTO:+0100
TZNAME:WEST
END:DAYLIGHT
END:VTIMEZONE
END:VCALENDAR