BEGIN:VCALENDAR
VERSION:2.0
PRODID:-//wp-events-plugin.com//7.2.3.1//EN
TZID:Europe/Lisbon
X-WR-TIMEZONE:Europe/Lisbon
BEGIN:VEVENT
UID:75@fmme.pt
DTSTART;TZID=Europe/Lisbon:20241130T143000
DTEND;TZID=Europe/Lisbon:20241130T183000
DTSTAMP:20240920T213837Z
URL:https://fmme.pt/events/encontro-convivio-as-13h00-e-eucaristia/
SUMMARY:61ª Sessão da EO na COF
DESCRIPTION:30&nbsp\;– 61ª Sessão da&nbsp\;EO&nbsp\;na COF\, das 14h30 
 às 18h30.\n\n&nbsp\;\n\n&nbsp\;\n\n&nbsp\;\n\n&nbsp\;\n\n&nbsp\;\n\n&nbsp
 \;\n\n&nbsp\;\n\n&nbsp\;
CATEGORIES:Atividade
LOCATION:FMME  - Fundação Maria Mãe da Esperança\, Rua da Barrada nº2 
 Loureira 2495-124\, Loureira\, Catarina da Serra\, 2495-124\, Leiria\, Por
 tugal
GEO:39.649822;-8.689169
X-APPLE-STRUCTURED-LOCATION;VALUE=URI;X-ADDRESS=Rua da Barrada nº2 Loureir
 a 2495-124\, Loureira\, Catarina da Serra\, 2495-124\, Leiria\, Portugal;X
 -APPLE-RADIUS=100;X-TITLE=FMME  - Fundação Maria Mãe da Esperança:geo:
 39.649822,-8.689169
END:VEVENT
BEGIN:VTIMEZONE
TZID:Europe/Lisbon
X-LIC-LOCATION:Europe/Lisbon
BEGIN:STANDARD
DTSTART:20241027T010000
TZOFFSETFROM:+0100
TZOFFSETTO:+0000
TZNAME:WET
END:STANDARD
END:VTIMEZONE
END:VCALENDAR