BEGIN:VCALENDAR
VERSION:2.0
PRODID:-//wp-events-plugin.com//7.2.3.1//EN
TZID:Europe/Lisbon
X-WR-TIMEZONE:Europe/Lisbon
BEGIN:VEVENT
UID:68@fmme.pt
DTSTART;TZID=Europe/Lisbon:20240706T143000
DTEND;TZID=Europe/Lisbon:20240706T213000
DTSTAMP:20240602T170915Z
URL:https://fmme.pt/events/devocao-do-1o-sabado-na-cof-com-eucaristia-as-2
 0h30-2/
SUMMARY:Devoção do 1º Sábado na COF\, com Eucaristia às 20h30.
DESCRIPTION:06 – Devoção do 1º Sábado&nbsp\;na COF\, com&nbsp\;Eucari
 stia&nbsp\;às 20h30.
CATEGORIES:Atividade
LOCATION:FMME  - Fundação Maria Mãe da Esperança\, Rua da Barrada nº2 
 Loureira 2495-124\, Loureira\, Catarina da Serra\, 2495-124\, Leiria\, Por
 tugal
GEO:39.649822;-8.689169
X-APPLE-STRUCTURED-LOCATION;VALUE=URI;X-ADDRESS=Rua da Barrada nº2 Loureir
 a 2495-124\, Loureira\, Catarina da Serra\, 2495-124\, Leiria\, Portugal;X
 -APPLE-RADIUS=100;X-TITLE=FMME  - Fundação Maria Mãe da Esperança:geo:
 39.649822,-8.689169
END:VEVENT
BEGIN:VTIMEZONE
TZID:Europe/Lisbon
X-LIC-LOCATION:Europe/Lisbon
BEGIN:DAYLIGHT
DTSTART:20240331T020000
TZOFFSETFROM:+0000
TZOFFSETTO:+0100
TZNAME:WEST
END:DAYLIGHT
END:VTIMEZONE
END:VCALENDAR