BEGIN:VCALENDAR
VERSION:2.0
PRODID:-//wp-events-plugin.com//7.2.3.1//EN
TZID:Europe/Lisbon
X-WR-TIMEZONE:Europe/Lisbon
BEGIN:VEVENT
UID:73@fmme.pt
DTSTART;TZID=Europe/Lisbon:20241102T143000
DTEND;TZID=Europe/Lisbon:20241102T183000
DTSTAMP:20240920T213521Z
URL:https://fmme.pt/events/devocao-do-1o-sabado-na-cof-com-eucaristia-4/
SUMMARY:Devoção do 1º Sábado na COF\, com Eucaristia 
DESCRIPTION:2 –Devoção do 1º Sábado&nbsp\;na COF\, com&nbsp\;Eucarist
 ia&nbsp\;às 20h30.\n\n&nbsp\;\n\n&nbsp\;\n\n&nbsp\;\n\n&nbsp\;\n\n&nbsp\;
 \n\n&nbsp\;
CATEGORIES:Atividade
LOCATION:FMME  - Fundação Maria Mãe da Esperança\, Rua da Barrada nº2 
 Loureira 2495-124\, Loureira\, Catarina da Serra\, 2495-124\, Leiria\, Por
 tugal
GEO:39.649822;-8.689169
X-APPLE-STRUCTURED-LOCATION;VALUE=URI;X-ADDRESS=Rua da Barrada nº2 Loureir
 a 2495-124\, Loureira\, Catarina da Serra\, 2495-124\, Leiria\, Portugal;X
 -APPLE-RADIUS=100;X-TITLE=FMME  - Fundação Maria Mãe da Esperança:geo:
 39.649822,-8.689169
END:VEVENT
BEGIN:VTIMEZONE
TZID:Europe/Lisbon
X-LIC-LOCATION:Europe/Lisbon
BEGIN:STANDARD
DTSTART:20241027T010000
TZOFFSETFROM:+0100
TZOFFSETTO:+0000
TZNAME:WET
END:STANDARD
END:VTIMEZONE
END:VCALENDAR