BEGIN:VCALENDAR
VERSION:2.0
PRODID:-//wp-events-plugin.com//7.2.3.1//EN
TZID:Europe/Lisbon
X-WR-TIMEZONE:Europe/Lisbon
BEGIN:VEVENT
UID:70@fmme.pt
DTSTART;TZID=Europe/Lisbon:20241005T143000
DTEND;TZID=Europe/Lisbon:20241005T183000
DTSTAMP:20240920T212704Z
URL:https://fmme.pt/events/60a-sessao-da-escola-de-oracao-eo-na-cof/
SUMMARY:60ª Sessão da Escola de Oração (EO) na COF
DESCRIPTION:05 –&nbsp\;60ª Sessão da Escola de Oração (EO) na COF\, d
 as 14h30 às 18h30.\n\n&nbsp\;\n\n&nbsp\;\n\n&nbsp\;
CATEGORIES:Atividade
LOCATION:FMME  - Fundação Maria Mãe da Esperança\, Rua da Barrada nº2 
 Loureira 2495-124\, Loureira\, Catarina da Serra\, 2495-124\, Leiria\, Por
 tugal
GEO:39.649822;-8.689169
X-APPLE-STRUCTURED-LOCATION;VALUE=URI;X-ADDRESS=Rua da Barrada nº2 Loureir
 a 2495-124\, Loureira\, Catarina da Serra\, 2495-124\, Leiria\, Portugal;X
 -APPLE-RADIUS=100;X-TITLE=FMME  - Fundação Maria Mãe da Esperança:geo:
 39.649822,-8.689169
END:VEVENT
BEGIN:VTIMEZONE
TZID:Europe/Lisbon
X-LIC-LOCATION:Europe/Lisbon
BEGIN:DAYLIGHT
DTSTART:20240331T020000
TZOFFSETFROM:+0000
TZOFFSETTO:+0100
TZNAME:WEST
END:DAYLIGHT
END:VTIMEZONE
END:VCALENDAR