BEGIN:VCALENDAR
VERSION:2.0
PRODID:-//wp-events-plugin.com//7.2.3.1//EN
TZID:Europe/Lisbon
X-WR-TIMEZONE:Europe/Lisbon
BEGIN:VEVENT
UID:72@fmme.pt
DTSTART;TZID=Europe/Lisbon:20241027T151500
DTEND;TZID=Europe/Lisbon:20241027T170000
DTSTAMP:20240920T213043Z
URL:https://fmme.pt/events/60a-sessao-da-eo-no-sobral-monte-agraco/
SUMMARY:Encontro  /convívio às 13h00  e Eucaristia
DESCRIPTION:&nbsp\;27 – Encontro&nbsp\; /convívio às 13h00&nbsp\; e Euc
 aristia às 15h15.\n\n&nbsp\;\n\n&nbsp\;\n\n&nbsp\;\n\n&nbsp\;\n\n&nbsp\;
CATEGORIES:Atividade fora da FMME
END:VEVENT
BEGIN:VTIMEZONE
TZID:Europe/Lisbon
X-LIC-LOCATION:Europe/Lisbon
BEGIN:STANDARD
DTSTART:20241027T010000
TZOFFSETFROM:+0100
TZOFFSETTO:+0000
TZNAME:WET
END:STANDARD
END:VTIMEZONE
END:VCALENDAR