BEGIN:VCALENDAR
VERSION:2.0
PRODID:-//wp-events-plugin.com//7.2.3.1//EN
TZID:Europe/Lisbon
X-WR-TIMEZONE:Europe/Lisbon
BEGIN:VEVENT
UID:51@fmme.pt
DTSTART;TZID=Europe/Lisbon:20231125T143000
DTEND;TZID=Europe/Lisbon:20231125T183000
DTSTAMP:20231027T195431Z
URL:https://fmme.pt/events/56a-sessao-da-eo-na-cof/
SUMMARY:56ª Sessão da EO na COF
DESCRIPTION:25 - 56ª Sessão da EO na COF\, das 14h30 às 18h30.
CATEGORIES:Atividade
END:VEVENT
BEGIN:VTIMEZONE
TZID:Europe/Lisbon
X-LIC-LOCATION:Europe/Lisbon
BEGIN:STANDARD
DTSTART:20231029T010000
TZOFFSETFROM:+0100
TZOFFSETTO:+0000
TZNAME:WET
END:STANDARD
END:VTIMEZONE
END:VCALENDAR