BEGIN:VCALENDAR
VERSION:2.0
PRODID:-//wp-events-plugin.com//7.2.3.1//EN
TZID:Europe/Lisbon
X-WR-TIMEZONE:Europe/Lisbon
BEGIN:VEVENT
UID:52@fmme.pt
DTSTART;TZID=Europe/Lisbon:20231130T143000
DTEND;TZID=Europe/Lisbon:20231130T183000
DTSTAMP:20231027T195536Z
URL:https://fmme.pt/events/56a-sessao-da-eo-na-cof-2/
SUMMARY:56ª Sessão da EO na COF
DESCRIPTION:30- 56ª Sessão da EO na COF\, das 14h30 às 18h30
CATEGORIES:Atividade
END:VEVENT
BEGIN:VTIMEZONE
TZID:Europe/Lisbon
X-LIC-LOCATION:Europe/Lisbon
BEGIN:STANDARD
DTSTART:20231029T010000
TZOFFSETFROM:+0100
TZOFFSETTO:+0000
TZNAME:WET
END:STANDARD
END:VTIMEZONE
END:VCALENDAR