BEGIN:VCALENDAR
VERSION:2.0
PRODID:-//wp-events-plugin.com//7.2.3.1//EN
TZID:Europe/Lisbon
X-WR-TIMEZONE:Europe/Lisbon
BEGIN:VEVENT
UID:63@fmme.pt
DTSTART;TZID=Europe/Lisbon:20240602T130000
DTEND;TZID=Europe/Lisbon:20240602T161500
DTSTAMP:20240602T165915Z
URL:https://fmme.pt/events/02-encontro-convivio-as-13h00-e-eucaristia-as-1
 5h15/
SUMMARY:02  – Encontro /convívio às 13h00 e  Eucaristia às 15h1
 5.
DESCRIPTION:&nbsp\;02&nbsp\;&nbsp\;–&nbsp\;Encontro /convívio&nbsp\;às 
 13h00 e&nbsp\;&nbsp\;Eucaristia&nbsp\;às 15h15. (Memória do nosso&nbsp\;
  Fundador\,&nbsp\; Pe Manuel)\n\n&nbsp\;
CATEGORIES:Atividade
LOCATION:FMME  - Fundação Maria Mãe da Esperança\, Rua da Barrada nº2 
 Loureira 2495-124\, Loureira\, Catarina da Serra\, 2495-124\, Leiria\, Por
 tugal
GEO:39.649822;-8.689169
X-APPLE-STRUCTURED-LOCATION;VALUE=URI;X-ADDRESS=Rua da Barrada nº2 Loureir
 a 2495-124\, Loureira\, Catarina da Serra\, 2495-124\, Leiria\, Portugal;X
 -APPLE-RADIUS=100;X-TITLE=FMME  - Fundação Maria Mãe da Esperança:geo:
 39.649822,-8.689169
END:VEVENT
BEGIN:VTIMEZONE
TZID:Europe/Lisbon
X-LIC-LOCATION:Europe/Lisbon
BEGIN:DAYLIGHT
DTSTART:20240331T020000
TZOFFSETFROM:+0000
TZOFFSETTO:+0100
TZNAME:WEST
END:DAYLIGHT
END:VTIMEZONE
END:VCALENDAR